BEGIN:VCALENDAR
PRODID:NingEventWidget-v1
VERSION:2.0
METHOD:PUBLISH
BEGIN:VTIMEZONE
TZID:America/New_York
X-LIC-LOCATION:America/New_York
BEGIN:DAYLIGHT
TZOFFSETFROM:-0500
TZOFFSETTO:-0400
TZNAME:EDT
DTSTART:19700308T020000
RRULE:FREQ=YEARLY;BYMONTH=3;BYDAY=2SU
END:DAYLIGHT
BEGIN:STANDARD
TZOFFSETFROM:-0400
TZOFFSETTO:-0500
TZNAME:EST
DTSTART:19701101T020000
RRULE:FREQ=YEARLY;BYMONTH=11;BYDAY=1SU
END:STANDARD
END:VTIMEZONE
BEGIN:VEVENT
UID:1990010:Event:85722
DTSTAMP:20260422T114853Z
SUMMARY:Dowling  College Presents, \"How Reading Develops the Craft of
  Writing, K-8. A Day with Katie Wood Ray
DESCRIPTION:This instructional day will teach participants how to deve
 lop two important habits of mind – how to confer with students on th
 e art of writing and how to find curriculum in their everyday reading 
 and writing life. Participants will observe Katie employing these tech
 niques and have the opportunity to apply them to the process and craft
  of reading and writing throughout the day and in their own writing wo
 rkshops.\n\nThis workshop is ideal for teachers (grades 1-8), administ
 rators, and staff developers interested in developing a content knowle
 dge base for the teaching of writing.\n\nWorkshop includes: Continenta
 l breakfast, all day literacy and writing workshop, and buffet lunch. 
 Book displays and vendors will be on site. One CEU* may be obtained up
 on request.\n\nFor more information visit https://schoolleadership20.c
 om/events/dowling-college-presents-how-reading-develops-the-craft-of
DTSTART;TZID=America/New_York:20120301T080000
DTEND;TZID=America/New_York:20120301T150000
CATEGORIES:conference
LOCATION:Fortunoff Hall, Dowling College, Rudolph Campus, Oakdale, NY
WEBSITE:http://www.dowling.edu
URL:http://www.dowling.edu
CONTACT:631-244-3000
ORGANIZER;CN="Linda Bausch":https://schoolleadership20.com/profile/Lin
 daBausch
ATTACH;FMTTYPE="image/jpeg":http://storage.ning.com/topology/rest/1.0/
 file/get/2254129827?profile=original
ATTENDEE;ROLE=REQ-PARTICIPANT;PARTSTAT=ACCEPTED;RSVP=TRUE;CN="Linda Ba
 usch":https://schoolleadership20.com/profile/LindaBausch
ATTENDEE;ROLE=REQ-PARTICIPANT;PARTSTAT=TENTATIVE;RSVP=TRUE;CN="Dominic
  Armano":https://schoolleadership20.com/profile/armano
END:VEVENT
END:VCALENDAR
