BEGIN:VCALENDAR
PRODID:NingEventWidget-v1
VERSION:2.0
METHOD:PUBLISH
BEGIN:VTIMEZONE
TZID:America/New_York
X-LIC-LOCATION:America/New_York
BEGIN:DAYLIGHT
TZOFFSETFROM:-0500
TZOFFSETTO:-0400
TZNAME:EDT
DTSTART:19700308T020000
RRULE:FREQ=YEARLY;BYMONTH=3;BYDAY=2SU
END:DAYLIGHT
BEGIN:STANDARD
TZOFFSETFROM:-0400
TZOFFSETTO:-0500
TZNAME:EST
DTSTART:19701101T020000
RRULE:FREQ=YEARLY;BYMONTH=11;BYDAY=1SU
END:STANDARD
END:VTIMEZONE
BEGIN:VEVENT
UID:1990010:Event:139734
DTSTAMP:20260419T204717Z
SUMMARY:DOWLING COLLEGE - DOCTORAL INFORMATION SESSION
DESCRIPTION:Join us for this informative EventDOWLING COLLEGE INVITES 
 YOU TO JOIN US Â FOR OUR DOCTORAL INFORMATION SESSION ONÂ March 12, 20
 12 FROM 5:30-7:30 AT OUR Â RESEARCH, LEADERSHIP, AND LEARNING CENTER Â
  LOCATED IN ROOM B123 Â (B building) ON OUR BROOKHAVEN CAMPUSDON'T MIS
 S THE OPPORTUNITY TO Â BE PART OF A SUCCESSFUL PROGRAM WITH APPROXIMAT
 ELY83 PERCENT COMPLETION RATE IN THREE YEARSAttached you will find a f
 lyer with all of the information.\n\nEdD_info_session_flyer_2_dowling_
 1.pdf\n\nFor more information visit https://schoolleadership20.com/eve
 nts/dowling-college-doctoral-information-session-1
DTSTART;TZID=America/New_York:20130312T173000
DTEND;TZID=America/New_York:20130312T193000
CATEGORIES:information, session
LOCATION:RESEARCH, LEADERSHIP, AND LEARNING CENTER  LOCATED IN ROOM B1
 23  (B building) ON OUR BROOKHAVEN CAMPUS
WEBSITE:
URL:
CONTACT:
ORGANIZER:Dowling College
ATTACH;FMTTYPE="image/jpeg":
ATTENDEE;ROLE=REQ-PARTICIPANT;PARTSTAT=ACCEPTED;RSVP=TRUE;CN="Michael 
 Keany":https://schoolleadership20.com/profile/MichaelKeany91
END:VEVENT
END:VCALENDAR
