BEGIN:VCALENDAR
PRODID:NingEventWidget-v1
VERSION:2.0
METHOD:PUBLISH
BEGIN:VTIMEZONE
TZID:America/New_York
X-LIC-LOCATION:America/New_York
BEGIN:DAYLIGHT
TZOFFSETFROM:-0500
TZOFFSETTO:-0400
TZNAME:EDT
DTSTART:19700308T020000
RRULE:FREQ=YEARLY;BYMONTH=3;BYDAY=2SU
END:DAYLIGHT
BEGIN:STANDARD
TZOFFSETFROM:-0400
TZOFFSETTO:-0500
TZNAME:EST
DTSTART:19701101T020000
RRULE:FREQ=YEARLY;BYMONTH=11;BYDAY=1SU
END:STANDARD
END:VTIMEZONE
BEGIN:VEVENT
UID:1990010:Event:31479
DTSTAMP:20260420T183817Z
SUMMARY:Doctoal Open House
DESCRIPTION:You Are Cordially Invited to a Doctoral Open House\nLet us
  Support You in Becoming a Proactive Leader in Turbulent Times\nOur do
 ctoral program creates leaders that have vision, who can maximize reso
 urces, establish priorities and is always cognizant of the needs of th
 eir passengers.\n\nFor more information visit https://schoolleadership
 20.com/events/doctoal-open-house
DTSTART;TZID=America/New_York:20110303T130000
DTEND;TZID=America/New_York:20110303T190000
CATEGORIES:doctoral, open, house
LOCATION:St. John's University / Oakdale Campus
WEBSITE:http://www.stjohns.edu
URL:http://www.stjohns.edu
CONTACT:(631) 218-7731
ORGANIZER:Jonathan T. Hughes, Ed.D.
ATTACH;FMTTYPE="image/jpeg":http://storage.ning.com/topology/rest/1.0/
 file/get/2190165991?profile=original
ATTENDEE;ROLE=REQ-PARTICIPANT;PARTSTAT=ACCEPTED;RSVP=TRUE;CN="Danica D
 'Ambrosio":https://schoolleadership20.com/profile/DanicaDAmbrosio
END:VEVENT
END:VCALENDAR
