BEGIN:VCALENDAR
PRODID:NingEventWidget-v1
VERSION:2.0
METHOD:PUBLISH
BEGIN:VTIMEZONE
TZID:America/New_York
X-LIC-LOCATION:America/New_York
BEGIN:DAYLIGHT
TZOFFSETFROM:-0500
TZOFFSETTO:-0400
TZNAME:EDT
DTSTART:19700308T020000
RRULE:FREQ=YEARLY;BYMONTH=3;BYDAY=2SU
END:DAYLIGHT
BEGIN:STANDARD
TZOFFSETFROM:-0400
TZOFFSETTO:-0500
TZNAME:EST
DTSTART:19701101T020000
RRULE:FREQ=YEARLY;BYMONTH=11;BYDAY=1SU
END:STANDARD
END:VTIMEZONE
BEGIN:VEVENT
UID:1990010:Event:209745
DTSTAMP:20260421T043822Z
SUMMARY:DEVELOPING AN ALTERNATIVE PATH FOR SCHOOL IMPROVEMENT - Summer
  Institute - August 21, 2014 - Dowling College
DESCRIPTION:BUILDING PROFESSIONAL CAPITAL\nSUMMER INSTITUTE\n \n \nD
 EVELOPING AN ALTERNATIVE PATH FOR SCHOOL IMPROVEMENT\n\n \nJoin fello
 w educators in exploring the \n \nBusiness Capital vs. Professional 
 Capital \n \nModels of Education\n \nBased on the exciting new book
  \n \n \nProfessional Capital: Transforming Teaching in Every Schoo
 l\nby Michael Fullan and Andy Hargreaves\n In this latest and most im
 portant collaboration, renowned educators Andy Hargreaves and Michael 
 Fullan set out a groundbreaking new agenda to transform the future of 
 teaching and public education. Ideas-driven, evidence-based, and strat
 egically powerful, Professional Capitalcombats the tired arguments an
 d stereotypes of teachers and teaching It includes action guidelines f
 or classroom teachers, administrators, schools and districts, and stat
 e and federal leaders. This is a book that no one connected with schoo
 ls can afford to ignore.\nAugust 21st,2014\n8:30am-3:00pm\n \n \nHOS
 TED BY DOWLING COLLEGE\n \n150 Idle Hour Blvd, Oakdale, NY 11769\n \
 nRegistration Fee $25\n \nFirst 10 DISTRICT TEAMS to register receive
  a free copy of the book!\nDISTRICT TEAMS consisting of 4-6 participan
 ts-BOE members, teachers, administrators, union and PTA representative
 s are encouraged to attend.  First 10 teams to register receive a fre
 e copy of the book in advance of the event.  Book is available on the
  day at a 40% discount.\n BREAKFAST AND LUNCH PROVIDED\nFOR MORE INFO
 RMATION AND TO REGISTER, GO TO:\nhttps://www.eventbrite.com/e/developi
 ng-an-alternative-path-for-school-improvement-tickets-12336600103\n \
 nSchool Leadership 2.0 is pleased to help facilitate this event.\nSCHO
 OL LEADERSHIP 2.0\nWHERE EDUCATIONAL LEADERS GATHER TO LEARN\nCOME SEE
  WHAT EVERYONE IS TALKING ABOUT\nwww.schoolleadership20.com\n\nFor mor
 e information visit https://schoolleadership20.com/events/developing-a
 n-alternative-path-for-school-improvement-summer-inst
DTSTART;TZID=America/New_York:20140821T083000
DTEND;TZID=America/New_York:20140821T150000
CATEGORIES:summer, institue
LOCATION:DOWLING COLLEGE
WEBSITE:https://www.eventbrite.com/e/developing-an-alternative-path-fo
 r-school-improvement-tickets-12336600103
URL:https://www.eventbrite.com/e/developing-an-alternative-path-for-sc
 hool-improvement-tickets-12336600103
CONTACT:
ORGANIZER:David Gamberg - dgamberg@southoldufsd.com
ATTACH;FMTTYPE="image/jpeg":
ATTENDEE;ROLE=REQ-PARTICIPANT;PARTSTAT=ACCEPTED;RSVP=TRUE;CN="Michael 
 Keany":https://schoolleadership20.com/profile/MichaelKeany91
END:VEVENT
END:VCALENDAR
