BEGIN:VCALENDAR
PRODID:NingEventWidget-v1
VERSION:2.0
METHOD:PUBLISH
BEGIN:VTIMEZONE
TZID:America/New_York
X-LIC-LOCATION:America/New_York
BEGIN:DAYLIGHT
TZOFFSETFROM:-0500
TZOFFSETTO:-0400
TZNAME:EDT
DTSTART:19700308T020000
RRULE:FREQ=YEARLY;BYMONTH=3;BYDAY=2SU
END:DAYLIGHT
BEGIN:STANDARD
TZOFFSETFROM:-0400
TZOFFSETTO:-0500
TZNAME:EST
DTSTART:19701101T020000
RRULE:FREQ=YEARLY;BYMONTH=11;BYDAY=1SU
END:STANDARD
END:VTIMEZONE
BEGIN:VEVENT
UID:1990010:Event:35227
DTSTAMP:20260420T053803Z
SUMMARY:C.W. Post Phi Delta Chapter Annual Induction Dinner and Awards
  Ceremony
DESCRIPTION:The C.W. Post Phi Delta Chapter of Long Island University 
 will celebrate its 25thÂ anniversary since its establishment in 1986.Â
   The Annual Induction Dinner and Awards Ceremony\nis setÂ to take pla
 ce on May 11th from 5:00 - 8:00 PM at the Great Hall,WinnickÂ House, C
 .W. Post Campus of Long Island University, Brookville,New York.Â Â Dr.
 Robert Manheimer, Dean of the College of Education and Information Sci
 encesÂ will be honored and will receive the Lifetime Leadership Award.
 Â  Dr. Joseph Piro, Associate Professor, will receive the Distinguishe
 dÂ Researcher Award, and Dr. Walter Mathews will receive the LifelongÂ
  Service Award to celebrate his 25 years as advisor to PDKChapterÂ 152
 4.Â  Additionally, two students will be granted Student TeacherÂ of th
 e Year.This award is granted to the student teacherÂ in each semester 
 who best exemplifies the PDKÂ vision of Service, Leadership, and Resea
 rch.Â  To attend the celebration, please contactÂ Dr. Roberta Levitt a
 tÂ Roberta.levitt@liu.eduÂ by April 30th.\n\nFor more information visi
 t https://schoolleadership20.com/events/cw-post-phi-delta-chapter
DTSTART;TZID=America/New_York:20110511T170000
DTEND;TZID=America/New_York:20110511T200000
CATEGORIES:dinner, and, awards, ceremony
LOCATION:Great Hall,Winnick House, C.W. Post Campus of Long Island Uni
 versity
WEBSITE:
URL:
CONTACT:Dr. Roberta Levitt at Roberta.levitt@liu.edu
ORGANIZER:PDKChapter 1524
ATTACH;FMTTYPE="image/jpeg":
ATTENDEE;ROLE=REQ-PARTICIPANT;PARTSTAT=ACCEPTED;RSVP=TRUE;CN="Michael 
 Keany":https://schoolleadership20.com/profile/MichaelKeany91
END:VEVENT
END:VCALENDAR
