BEGIN:VCALENDAR
PRODID:NingEventWidget-v1
VERSION:2.0
METHOD:PUBLISH
BEGIN:VTIMEZONE
TZID:America/New_York
X-LIC-LOCATION:America/New_York
BEGIN:DAYLIGHT
TZOFFSETFROM:-0500
TZOFFSETTO:-0400
TZNAME:EDT
DTSTART:19700308T020000
RRULE:FREQ=YEARLY;BYMONTH=3;BYDAY=2SU
END:DAYLIGHT
BEGIN:STANDARD
TZOFFSETFROM:-0400
TZOFFSETTO:-0500
TZNAME:EST
DTSTART:19701101T020000
RRULE:FREQ=YEARLY;BYMONTH=11;BYDAY=1SU
END:STANDARD
END:VTIMEZONE
BEGIN:VEVENT
UID:1990010:Event:26311
DTSTAMP:20260420T071919Z
SUMMARY:Bullying Prevention: Psychological and Educational Strategies
DESCRIPTION:The New York State Dignity for All Students Act requires t
 hat all schools have an effective bully prevention plan and appropriat
 ely trained personnel in each school building by July, 2012. Nationall
 y recognized Bully Intervention Experts, Dr. Susan Lipkins,psychologis
 t, and Dr. Karen Siris, professor, will demonstrate ways to effectivel
 y prevent and intervene in bully and cyberbullying situations.\n\nVict
 ims, bullies, and bystanders will be discussed from psychological and 
 educational perspectives. However, the entire school community and cli
 mate will also be addressed with emphasis on changes that must be prov
 ided by administrators, mental health professionals, teachers, non-pro
 fessional staff members and parents in order to establish a successful
  anti-bullying program.\n\nRecommended Participants:\n\nDistrict Admin
 istrators, Principals, Psychologists, Social Workers, Guidance Counsel
 orsTeachers, Non-Professional Personnel, Parents\n\nFor more informati
 on and TO REGISTER GO TO:\n\nhttp://bullyinterventionexperts@eventbrit
 e.com/\n\nFor more information visit https://schoolleadership20.com/ev
 ents/bullying-prevention
DTSTART;TZID=America/New_York:20110311T080000
DTEND;TZID=America/New_York:20110311T130000
CATEGORIES:conference
LOCATION:Plainview Holiday Inn
WEBSITE:http://bullyinterventionexperts.eventbrite.com/
URL:http://bullyinterventionexperts.eventbrite.com/
CONTACT:516 -944-3786
ORGANIZER:realpsychology.com - Dr. Susan Lipkins
ATTACH;FMTTYPE="image/jpeg":http://storage.ning.com/topology/rest/1.0/
 file/get/2254126928?profile=original
ATTENDEE;ROLE=REQ-PARTICIPANT;PARTSTAT=ACCEPTED;RSVP=TRUE;CN="John Lon
 ardo":https://schoolleadership20.com/profile/JohnLonardo
ATTENDEE;ROLE=REQ-PARTICIPANT;PARTSTAT=ACCEPTED;RSVP=TRUE;CN="Christin
 e V. Cralidis":https://schoolleadership20.com/profile/ChristineVCralid
 is
ATTENDEE;ROLE=REQ-PARTICIPANT;PARTSTAT=ACCEPTED;RSVP=TRUE;CN="John Gro
 shans":https://schoolleadership20.com/profile/JohnGroshan
ATTENDEE;ROLE=REQ-PARTICIPANT;PARTSTAT=ACCEPTED;RSVP=TRUE;CN="Karen Si
 ris":https://schoolleadership20.com/profile/KarenSiris
END:VEVENT
END:VCALENDAR
