BEGIN:VCALENDAR
PRODID:NingEventWidget-v1
VERSION:2.0
METHOD:PUBLISH
BEGIN:VTIMEZONE
TZID:America/New_York
X-LIC-LOCATION:America/New_York
BEGIN:DAYLIGHT
TZOFFSETFROM:-0500
TZOFFSETTO:-0400
TZNAME:EDT
DTSTART:19700308T020000
RRULE:FREQ=YEARLY;BYMONTH=3;BYDAY=2SU
END:DAYLIGHT
BEGIN:STANDARD
TZOFFSETFROM:-0400
TZOFFSETTO:-0500
TZNAME:EST
DTSTART:19701101T020000
RRULE:FREQ=YEARLY;BYMONTH=11;BYDAY=1SU
END:STANDARD
END:VTIMEZONE
BEGIN:VEVENT
UID:1990010:Event:25701
DTSTAMP:20260419T081937Z
SUMMARY:Building Student Motivation and Achievement Through a Growth M
 indset
DESCRIPTION:Western Suffolk BOCES and Adelphi University\nin cooperati
 on with the\n\nLI Social Emotional Literacy Forum\n\npresent:\n\nThe 6
 th Annual LI SELF Conference\n\n\"Building Student Motivation and Achi
 evement Through a Growth Mindset\"\nFebruary 8, 2011 8:00am-3:00pm $85
 pp\n\nLocation: Adelphi University Conference Center, Garden City, NY 
 11530\n\nDear Colleagues\n\nWhat makes some students love learning, cr
 ave challenge, value effort and persist in the face of obstacles? Acco
 rding to nationally recognized researchers Lisa Blackwell and Carol Dw
 eck, these successful students have a \"Growth Mindset\" and are maste
 ry-oriented learners. When students believe that they can grow their b
 rains with effort and practice, they too can develop a Growth Mindset.
 \n\nI'd like to personally invite you to join us at the 6th Annual LI 
 SEL Forum Annual Conference, \"Building Student Motivation and Achieve
 ment Through a Growth Mindset.\" Dr. Blackwell, our keynote speaker wi
 ll introduce us to Mindset theories and their application in schools. 
 Fostering growth mindsets in adults and students is directly linked to
  increasing motivation, effort and academic success, as well as develo
 ping a socially and emotionally healthy learning environment. \n\nThe 
 following link will take you directly to the registration brochure. We
  encourage you to bring a team of educators, parents and board of educ
 ation members from your school. The day will be filled with intriguing
  information and \"try this tomorrow\" practical applications.\n\nFeb 
 8th Conference Information: http://www.wsboces.org/library/pdfs/iss225
 6.pdf (copy and paste into your browser)\n\nDon't want to wait until F
 ebruary to learn more? Then please join me on December 9th at Western 
 Suffolk BOCES Conference Center, Wheatley Heights, NY when I will pres
 ent an introductory workshop on Growth Mindset from 4 - 6 PM. (Fee: $2
 5.00)\n\nHere is the link for the December workshop: \"Fostering Stude
 nt Motivation and Effort: The Growth Mindset Factor,\" Joan Fretz, pre
 senter: http://www.wsboces.org/library/pdfs/iss2249.pdf (copy and past
 e into your browser)\n\nI also encourage you to read Carol Dweck's rec
 ent article, \"Even Geniuses Work Hard,\" featured in the September is
 sue of ASCD\"s Educational Leadership: http://ascd.org/publications/ed
 ucational-leadership/sept10/vol68/num01/Even-Geniuses-Work-Hard.aspx .
  (copy and paste into your browser)\n\nTake your first step towards cr
 eating a positive, Growth Mindset environment, where students understa
 nd that meaningful success requires effort. Reserve your place today f
 or our February conference and December workshop. Feel free to contact
  me directly for any questions about Growth Mindset and Optimal Learni
 ng Experiences. Contact Debbie Maxwell at dmaxwell@wsboces.org for reg
 istration questions.\n\nHope you'll join us!\n\nJoan\n\nJoan R. Fretz\
 nDir. of Fine and Performing Arts\nHuntington Schools\nOakwood and McK
 ay Roads\nHuntington, NY 11743\n\n631-673-2106, 2053 (o)\n631-425-4644
  (f)\n\nFor more information visit https://schoolleadership20.com/even
 ts/building-student-motivation
DTSTART;TZID=America/New_York:20110208T080000
DTEND;TZID=America/New_York:20110208T150000
CATEGORIES:conference
LOCATION:Adelphi University Conference Center, Garden City, NY 11530
WEBSITE:http://www.wsboces.org/library/pdfs/iss2256.pdf
URL:http://www.wsboces.org/library/pdfs/iss2256.pdf
CONTACT:631-673-2106, 2053
ORGANIZER:Joan Fretz, SEL Forum
ATTACH;FMTTYPE="image/jpeg":
ATTENDEE;ROLE=REQ-PARTICIPANT;PARTSTAT=ACCEPTED;RSVP=TRUE;CN="Michael 
 Keany":https://schoolleadership20.com/profile/MichaelKeany91
END:VEVENT
END:VCALENDAR
