BEGIN:VCALENDAR
PRODID:NingEventWidget-v1
VERSION:2.0
METHOD:PUBLISH
BEGIN:VTIMEZONE
TZID:America/New_York
X-LIC-LOCATION:America/New_York
BEGIN:DAYLIGHT
TZOFFSETFROM:-0500
TZOFFSETTO:-0400
TZNAME:EDT
DTSTART:19700308T020000
RRULE:FREQ=YEARLY;BYMONTH=3;BYDAY=2SU
END:DAYLIGHT
BEGIN:STANDARD
TZOFFSETFROM:-0400
TZOFFSETTO:-0500
TZNAME:EST
DTSTART:19701101T020000
RRULE:FREQ=YEARLY;BYMONTH=11;BYDAY=1SU
END:STANDARD
END:VTIMEZONE
BEGIN:VEVENT
UID:1990010:Event:135736
DTSTAMP:20260420T003206Z
SUMMARY:ASSET Educational Technology Conference
DESCRIPTION:The 15th Annual ASSET Educational Technology Conference \
 nMonday, March 11th, 2013\n7:45am to 3:00pm\nThe Huntington Hilton, Me
 lville, NY\n\nClick Here for Details and More Information\n\n \n\nFor
  more information visit https://schoolleadership20.com/events/asset-ed
 ucational-technology-conference
DTSTART;TZID=America/New_York:20130311T074500
DTEND;TZID=America/New_York:20130311T150000
CATEGORIES:conference
LOCATION:The Huntington Hilton, Melville, NY
WEBSITE:https://www.suffolkasset.com/index.php?m=Events&e=view&id=13
URL:https://www.suffolkasset.com/index.php?m=Events&e=view&id=13
CONTACT:
ORGANIZER:ASSET
ATTACH;FMTTYPE="image/jpeg":
ATTENDEE;ROLE=REQ-PARTICIPANT;PARTSTAT=ACCEPTED;RSVP=TRUE;CN="Michael 
 Keany":https://schoolleadership20.com/profile/MichaelKeany91
END:VEVENT
END:VCALENDAR
