BEGIN:VCALENDAR
PRODID:NingEventWidget-v1
VERSION:2.0
METHOD:PUBLISH
BEGIN:VTIMEZONE
TZID:America/New_York
X-LIC-LOCATION:America/New_York
BEGIN:DAYLIGHT
TZOFFSETFROM:-0500
TZOFFSETTO:-0400
TZNAME:EDT
DTSTART:19700308T020000
RRULE:FREQ=YEARLY;BYMONTH=3;BYDAY=2SU
END:DAYLIGHT
BEGIN:STANDARD
TZOFFSETFROM:-0400
TZOFFSETTO:-0500
TZNAME:EST
DTSTART:19701101T020000
RRULE:FREQ=YEARLY;BYMONTH=11;BYDAY=1SU
END:STANDARD
END:VTIMEZONE
BEGIN:VEVENT
UID:1990010:Event:135743
DTSTAMP:20260419T224718Z
SUMMARY:Aspiring Superintendents' and Central Administrators' Study Gr
 oup
DESCRIPTION:Nassau County Council of School Superintendents in conjunc
 tion with LIU-Post will hold another Aspiring Superintendents' and Cen
 tral Administrators' Study Group  scheduled for Monday, March 11, 201
 3 from 4:30-6:30 pm in the Patrons' Lounge in the Tilles Center at LIU
 -Post Campus.  At this session, Study Group participants will hear pa
 nel members, Superintendents--Dr. Joyce Bisso, Hewlett-Woodmere, Dr. J
 oseph Famularo, Bellmore, Dr. Ron Feirsen, Garden City, Dr. Elaine Kan
 as, East Williston and moderator, David Feller, North Merrick, in an i
 nformative session entitled, Inside the Board Room: Examining Superint
 endent/School Board Relations which will focus on strategies that prom
 ote a productive working relationship between the superintendent and s
 chool board.  Study Group participants will also have the opportunity
  to network and interact in problem-solving activities. The Registrati
 on fee is $25.00. Nassau County administrators are invited to attend a
 nd may obtain registration information from their superintendent's off
 ice.\nPlease feel free to contact Dr. Estelle Kamler at estelle.kamle
 r@liu.edu for any additional information.\n\nFor more information vis
 it https://schoolleadership20.com/events/aspiring-superintendents-and-
 central-administrators-study-group-1
DTSTART;TZID=America/New_York:20130311T163000
DTEND;TZID=America/New_York:20130311T183000
CATEGORIES:study, group, -, presentation
LOCATION:Patrons' Lounge in the Tilles Center at LIU-Post Campus
WEBSITE:
URL:
CONTACT:
ORGANIZER:Nassau County Council of School Superintendents in conjuncti
 on with LIU-Post
ATTACH;FMTTYPE="image/jpeg":
ATTENDEE;ROLE=REQ-PARTICIPANT;PARTSTAT=ACCEPTED;RSVP=TRUE;CN="Michael 
 Keany":https://schoolleadership20.com/profile/MichaelKeany91
END:VEVENT
END:VCALENDAR
