BEGIN:VCALENDAR
PRODID:NingEventWidget-v1
VERSION:2.0
METHOD:PUBLISH
BEGIN:VTIMEZONE
TZID:America/New_York
X-LIC-LOCATION:America/New_York
BEGIN:DAYLIGHT
TZOFFSETFROM:-0500
TZOFFSETTO:-0400
TZNAME:EDT
DTSTART:19700308T020000
RRULE:FREQ=YEARLY;BYMONTH=3;BYDAY=2SU
END:DAYLIGHT
BEGIN:STANDARD
TZOFFSETFROM:-0400
TZOFFSETTO:-0500
TZNAME:EST
DTSTART:19701101T020000
RRULE:FREQ=YEARLY;BYMONTH=11;BYDAY=1SU
END:STANDARD
END:VTIMEZONE
BEGIN:VEVENT
UID:1990010:Event:29334
DTSTAMP:20260420T143513Z
SUMMARY:AMERICAN RED CROSS                CPR/AED/ FIRST AID FOR  COAC
 HES
DESCRIPTION:AMERICAN RED CROSS\n               CPR/AED/ 
 FIRST AID FOR  COACHES\n \n                     
    Thursday March 3rd, 2011\n    Plainview-Old Bethpage Middl
 e School (Faculty Room)\n        CPR/AED 6:30PM      Fir
 st Aid for Coaches7:30PM\n \n    Frank Buck American Red Cross Cer
 tified Instructor\n \nPlease call (631) 615-6356 or e-mailbucko27@opt
 online.net to reserve a spot in class.  Leave name, number, address,
  and which certifications you will need.\n \nCPR/AED $35    First 
 Aid $35   CPR/AED and First Aid $70\n             Cash i
 s preferred but checks will be accepted\n \nFrom LIE/Northern State 
 Pkwy:  Take 135 (Seaford-Oyster Bay Expwy) South to Exit 11 Wallac
 e Ave.  Make L/T at stop sign then another L/T at next stop sign.  T
 his will bring you back over the top of 135.  School is located on ri
 ght side.  Park in main parking lot by football field and enter doors
  on right when facing building.  Follow signs to faculty room.\n \nF
 rom S. State Pkwy:  Take 135 (Seaford-Oyster BayExpwy) North to Exi
 t 10 Old Country Rd.  Make a R/T at light onto Old Country Rd.  Go
  to first light and make a L/T onto Central Park Rd.  Proceed for 3 
 stop signs.  At 3rd stop sign and make a L/T onto Southern Pkwy.  S
 chool is now on your left.  Park in main lot by football field and en
 ter doors on right when facing building.  Follow signs to faculty roo
 m.\n \n\nFor more information visit https://schoolleadership20.com/ev
 ents/american-red-cross
DTSTART;TZID=America/New_York:20110303T183000
DTEND;TZID=America/New_York:20110303T203000
CATEGORIES:training
LOCATION:Plainview-Old Bethpage Middle School (Faculty Room)
WEBSITE:http://bucko27@optonline.net
URL:http://bucko27@optonline.net
CONTACT:(631) 615-6356
ORGANIZER:Plainview-Old Bethpage Middle School (Faculty Room)
ATTACH;FMTTYPE="image/jpeg":
ATTENDEE;ROLE=REQ-PARTICIPANT;PARTSTAT=ACCEPTED;RSVP=TRUE;CN="Michael 
 Keany":https://schoolleadership20.com/profile/MichaelKeany91
END:VEVENT
END:VCALENDAR
