BEGIN:VCALENDAR
PRODID:NingEventWidget-v1
VERSION:2.0
METHOD:PUBLISH
BEGIN:VTIMEZONE
TZID:America/New_York
X-LIC-LOCATION:America/New_York
BEGIN:DAYLIGHT
TZOFFSETFROM:-0500
TZOFFSETTO:-0400
TZNAME:EDT
DTSTART:19700308T020000
RRULE:FREQ=YEARLY;BYMONTH=3;BYDAY=2SU
END:DAYLIGHT
BEGIN:STANDARD
TZOFFSETFROM:-0400
TZOFFSETTO:-0500
TZNAME:EST
DTSTART:19701101T020000
RRULE:FREQ=YEARLY;BYMONTH=11;BYDAY=1SU
END:STANDARD
END:VTIMEZONE
BEGIN:VEVENT
UID:1990010:Event:147726
DTSTAMP:20260420T071033Z
SUMMARY:ADVANCED STRATEGIES: TAKING NEXT STEP IN YOUR CAREER
DESCRIPTION:\n\"http://www.wsboces.org/library/pdfs/iss2723.pdf \"Adva
 nced Strategies:Taking the Next Step in Your Career as a School Leader
 \"\"\n\n\n\n\nFor more information visit https://schoolleadership20.co
 m/events/advanced-strategies-taking-next-step-in-your-career
DTSTART;TZID=America/New_York:20130516T154500
DTEND;TZID=America/New_York:20130516T174500
CATEGORIES:seminar
LOCATION:WHEATLEY CENTER
WEBSITE:http://www.wsboces.org/library/pdfs/iss2723.pdf
URL:http://www.wsboces.org/library/pdfs/iss2723.pdf
CONTACT:
ORGANIZER;CN="Dr. Larry Aronstein":https://schoolleadership20.com/prof
 ile/DrLarryAronstein
ATTACH;FMTTYPE="image/jpeg":http://storage.ning.com/topology/rest/1.0/
 file/get/2254127220?profile=original
ATTENDEE;ROLE=REQ-PARTICIPANT;PARTSTAT=ACCEPTED;RSVP=TRUE;CN="Dr. Larr
 y Aronstein":https://schoolleadership20.com/profile/DrLarryAronstein
END:VEVENT
END:VCALENDAR
