BEGIN:VCALENDAR
PRODID:NingEventWidget-v1
VERSION:2.0
METHOD:PUBLISH
BEGIN:VTIMEZONE
TZID:America/New_York
X-LIC-LOCATION:America/New_York
BEGIN:DAYLIGHT
TZOFFSETFROM:-0500
TZOFFSETTO:-0400
TZNAME:EDT
DTSTART:19700308T020000
RRULE:FREQ=YEARLY;BYMONTH=3;BYDAY=2SU
END:DAYLIGHT
BEGIN:STANDARD
TZOFFSETFROM:-0400
TZOFFSETTO:-0500
TZNAME:EST
DTSTART:19701101T020000
RRULE:FREQ=YEARLY;BYMONTH=11;BYDAY=1SU
END:STANDARD
END:VTIMEZONE
BEGIN:VEVENT
UID:1990010:Event:44481
DTSTAMP:20260421T044518Z
SUMMARY:Adelphi University Open House
DESCRIPTION: \nEducational Administrators are facing extraordinary ch
 allenges in today’s schools.   To prepare for their future careers,
  aspiring administrators are seeking certifications on both the buildi
 ng and district level.   \n \nAdelphi University's Ruth S. Ammon Sc
 hool of Education offers “nationally accredited” Master of Arts, C
 ertificate, and Advanced Certificate programs in Education Leadership 
 and Technology (EDL) that provides future administrators with the cred
 entials and skills to expand their talents.   \nTo find out more abou
 t the opportunities available through the EDL program and how to appl
 y… please come to our Graduate Open House on Wednesday, May 18th fro
 m 4:30 to 7:30 at our Garden City Campus.  \n\nSincerely,\n \nSusan 
 Eichenholtz and Patricia Marcellino Co-Directors Educational Leadershi
 p & Technology Ruth S. Ammon School of Education\nCurriculum and Instr
 uction Department Adelphi University\n \nPlease call Antonella Sulliv
 an- Administrative Assistant (516-877-4084) with any questions.\n \n\
 nFor more information visit https://schoolleadership20.com/events/adel
 phi-university-open-house
DTSTART;TZID=America/New_York:20110518T163000
DTEND;TZID=America/New_York:20110518T193000
CATEGORIES:open, house
LOCATION:Adelphi Garden City Campus
WEBSITE:
URL:
CONTACT:(516-877-4084)
ORGANIZER:Adelphi University
ATTACH;FMTTYPE="image/jpeg":
ATTENDEE;ROLE=REQ-PARTICIPANT;PARTSTAT=ACCEPTED;RSVP=TRUE;CN="Michael 
 Keany":https://schoolleadership20.com/profile/MichaelKeany91
END:VEVENT
END:VCALENDAR
