BEGIN:VCALENDAR
PRODID:NingEventWidget-v1
VERSION:2.0
METHOD:PUBLISH
BEGIN:VTIMEZONE
TZID:America/New_York
X-LIC-LOCATION:America/New_York
BEGIN:DAYLIGHT
TZOFFSETFROM:-0500
TZOFFSETTO:-0400
TZNAME:EDT
DTSTART:19700308T020000
RRULE:FREQ=YEARLY;BYMONTH=3;BYDAY=2SU
END:DAYLIGHT
BEGIN:STANDARD
TZOFFSETFROM:-0400
TZOFFSETTO:-0500
TZNAME:EST
DTSTART:19701101T020000
RRULE:FREQ=YEARLY;BYMONTH=11;BYDAY=1SU
END:STANDARD
END:VTIMEZONE
BEGIN:VEVENT
UID:1990010:Event:35024
DTSTAMP:20260420T054125Z
SUMMARY:2011 Long Island Writing Project’s Invitational Summer Insti
 tute
DESCRIPTION:The Long Island Writing Project is once again inviting tea
 chers to apply to the 2011 Long Island Writing Project’s Invitationa
 l Summer Institute.  This year’s Institute is being held over four,
  four-day weeks from Tuesday, June 28, through Thursday, July 21, 9am-
 4pm, on the Nassau Community College Campus.   \"Writing Project Sum
 mer Institutes attract a rich mix of reflective practitioners at diffe
 rent points in their careers and from a variety of districts. Across g
 rade level and subject areas, teachers work in reading and writing gro
 ups on topics such as generating writing, revising, editing, writing t
 o learn, and assessment, to name just a few. The participants consider
  how best to work with the range of students in our classrooms, addres
 sing inclusion and English Language Learners.\n \nEven if your distri
 ct is not offering financial incentives to teachers who earn credits, 
 teachers who want to improve their teaching of writing can still be fi
 nancially reimbursed for their time and effort.  Since the LIWP is a 
 federally-funded site of the National Writing Project, teachers who ar
 e accepted will receive a $900 stipend.  If they choose to, participa
 nts can receive up to six graduate credits from Hofstra, but they must
  pay Hofstra’s tuition.  Teachers from some districts may earn in-s
 ervice credit.\n \nPlease e-mail Darshna Katwala, Co-Director, Darsh
 na.Katwala@ncc.edu  with any questions, or for  applications\n\nFor 
 more information visit https://schoolleadership20.com/events/2011-long
 -island-writing
DTSTART;TZID=America/New_York:20110628T000000
DTEND;TZID=America/New_York:20110721T235900
CATEGORIES:summer, institute
LOCATION:Nassau Community College Campus
WEBSITE:
URL:
CONTACT:Darshna.Katwala@ncc.edu
ORGANIZER:LI Writers Project
ATTACH;FMTTYPE="image/jpeg":
ATTENDEE;ROLE=REQ-PARTICIPANT;PARTSTAT=ACCEPTED;RSVP=TRUE;CN="Michael 
 Keany":https://schoolleadership20.com/profile/MichaelKeany91
END:VEVENT
END:VCALENDAR
